BEGIN:VCALENDAR
VERSION:2.0
PRODID:-//Learning and Development Hub - ECPv6.15.20//NONSGML v1.0//EN
CALSCALE:GREGORIAN
METHOD:PUBLISH
X-WR-CALNAME:Learning and Development Hub
X-ORIGINAL-URL:https://ldhub.org.uk
X-WR-CALDESC:Events for Learning and Development Hub
REFRESH-INTERVAL;VALUE=DURATION:PT1H
X-Robots-Tag:noindex
X-PUBLISHED-TTL:PT1H
BEGIN:VTIMEZONE
TZID:Europe/London
BEGIN:DAYLIGHT
TZOFFSETFROM:+0000
TZOFFSETTO:+0100
TZNAME:BST
DTSTART:20250330T010000
END:DAYLIGHT
BEGIN:STANDARD
TZOFFSETFROM:+0100
TZOFFSETTO:+0000
TZNAME:GMT
DTSTART:20251026T010000
END:STANDARD
BEGIN:DAYLIGHT
TZOFFSETFROM:+0000
TZOFFSETTO:+0100
TZNAME:BST
DTSTART:20260329T010000
END:DAYLIGHT
BEGIN:STANDARD
TZOFFSETFROM:+0100
TZOFFSETTO:+0000
TZNAME:GMT
DTSTART:20261025T010000
END:STANDARD
BEGIN:DAYLIGHT
TZOFFSETFROM:+0000
TZOFFSETTO:+0100
TZNAME:BST
DTSTART:20270328T010000
END:DAYLIGHT
BEGIN:STANDARD
TZOFFSETFROM:+0100
TZOFFSETTO:+0000
TZNAME:GMT
DTSTART:20271031T010000
END:STANDARD
END:VTIMEZONE
BEGIN:VEVENT
DTSTART;TZID=Europe/London:20260226T093000
DTEND;TZID=Europe/London:20260226T123000
DTSTAMP:20260419T184744
CREATED:20251110T131408Z
LAST-MODIFIED:20260107T140658Z
UID:9958-1772098200-1772109000@ldhub.org.uk
SUMMARY:ACES
DESCRIPTION:ACES				\n				\n		\n				\n				\n					\n\n\n   ← Back\n				\n				\n				\n				\n									| 								\n				\n				\n				\n					\n		\n			February 26\n\n	\n\n	 @ \n\n\n9:30 am\n\n		\n\n\n\n	\n	 - \n\n12:30 pm\n\n\n\n	\n				\n				\n				\n				\n									| 								\n				\n				\n				\n					\n£50.00 – £75.00 				\n				\n				\n					\n				\n		\n					\n				\n				\n																														\n				\n					\n				\n		\n					\n				\n				\n									Adverse Childhood Experiences (ACEs) have a profound impact on the development\, health\, and well-being of individuals throughout their lives. Understanding ACEs is essential for professionals working with children\, young people\, and families to provide effective support\, intervention\, and trauma-informed care. \nThis training explores the latest research on ACEs\, their long-term effects\, and how they influence behaviour\, mental health\, and life outcomes. Participants will gain insight into the neurological and psychological impact of early adversity\, the link between ACEs and risk-taking behaviours\, and the role of resilience in mitigating their effects. \nThrough interactive discussions and case studies\, attendees will learn practical strategies for identifying\, addressing\, and reducing the impact of ACEs in their professional practice. The session will also explore trauma-informed approaches that promote healing and positive life trajectories for those affected by childhood adversity. \nBy the end of the training\, participants will be equipped with the knowledge and skills to recognise ACEs\, respond effectively\, and implement preventative and supportive measures in their work. \nIdeal for: \n\nSocial workers and family support practitioners\nTeachers\, school staff\, and safeguarding officers\nYouth workers and community engagement professionals\nHealthcare professionals and mental health practitioners\nPolice officers and frontline workers supporting vulnerable individuals\n\nKey Takeaways: \n\nUnderstanding the research and science behind ACEs\nRecognising the long-term impact of childhood adversity on mental and physical health\nExploring the connection between ACEs\, behaviour\, and risk-taking\nLearning trauma-informed approaches to support those affected by ACEs\nDeveloping strategies to build resilience and promote positive life outcomes\n\nAdditional Benefits: \n\nEnhance your ability to engage with children and families affected by adversity\nGain confidence in applying trauma-informed care principles in practice\nAccess expert guidance on best practices for early intervention and support\n\nThis course is essential for professionals committed to improving outcomes for individuals impacted by childhood trauma\, ensuring they receive the support and opportunities needed to thrive. 								\n				\n				\n				\n					\n	\n		\n\n	\n	Add to calendar	\n		\n	\n\n		\n			\n									\n	Google Calendar\n\n									\n	iCalendar\n\n									\n	Outlook 365\n\n									\n	Outlook Live\n\n							\n		\n\n		\n	\n\n				\n				\n		\n		\n				\n				\n					\n	\n\n		\n		\n		\n\n		\n\n\n		\n\n\n\n	Tickets\n\n		\n	\n	\n		The numbers below include tickets for this event already in your cart. Clicking "Get Tickets" will allow you to edit any existing attendee information as well as change ticket quantities.	\n\n\n		\n		\n		\n	\n		Tickets are no longer available	\n\n\n		\n	\n	\n\n	\n	\n\n	\n	\n\n\n\n			\n\n	\n\n\n				\n				\n				\n		\n				\n				\n					\n				\n				\n	\n		Longsight Library and Learning Centre	\n	\n	\n\n519 Stockport Rd\n	\n		\n		Longsight\,\n\n	Manchester\n\n	M12 4NE\n\n\n\n\n\n	+ Google Map \n\n\n	\n	Phone:\n					\n						\n	 \n\n\n\n	\n\n\n\n		\n	\n				\n				\n				\n				\n		\n				\n				\n					\n	\n		\n\n				Coaching and Mentoring Young People	\n\n\n		\n	\n		Engaging & Empowering Young People
URL:https://ldhub.org.uk/event/aces-4/
LOCATION:Longsight Library and Learning Centre\, 519 Stockport Rd\, Longsight\, Manchester\, M12 4NE
CATEGORIES:Venue Event
ATTACH;FMTTYPE=image/png:https://ldhub.org.uk/wp-content/uploads/2025/08/ACES-1.png
ORGANIZER;CN="Learning and Development Hub":MAILTO:info@ldhub.org.uk
END:VEVENT
END:VCALENDAR