BEGIN:VCALENDAR
VERSION:2.0
PRODID:-//Learning and Development Hub - ECPv6.15.20//NONSGML v1.0//EN
CALSCALE:GREGORIAN
METHOD:PUBLISH
X-WR-CALNAME:Learning and Development Hub
X-ORIGINAL-URL:https://ldhub.org.uk
X-WR-CALDESC:Events for Learning and Development Hub
REFRESH-INTERVAL;VALUE=DURATION:PT1H
X-Robots-Tag:noindex
X-PUBLISHED-TTL:PT1H
BEGIN:VTIMEZONE
TZID:Europe/London
BEGIN:DAYLIGHT
TZOFFSETFROM:+0000
TZOFFSETTO:+0100
TZNAME:BST
DTSTART:20250330T010000
END:DAYLIGHT
BEGIN:STANDARD
TZOFFSETFROM:+0100
TZOFFSETTO:+0000
TZNAME:GMT
DTSTART:20251026T010000
END:STANDARD
BEGIN:DAYLIGHT
TZOFFSETFROM:+0000
TZOFFSETTO:+0100
TZNAME:BST
DTSTART:20260329T010000
END:DAYLIGHT
BEGIN:STANDARD
TZOFFSETFROM:+0100
TZOFFSETTO:+0000
TZNAME:GMT
DTSTART:20261025T010000
END:STANDARD
BEGIN:DAYLIGHT
TZOFFSETFROM:+0000
TZOFFSETTO:+0100
TZNAME:BST
DTSTART:20270328T010000
END:DAYLIGHT
BEGIN:STANDARD
TZOFFSETFROM:+0100
TZOFFSETTO:+0000
TZNAME:GMT
DTSTART:20271031T010000
END:STANDARD
END:VTIMEZONE
BEGIN:VEVENT
DTSTART;TZID=Europe/London:20260622T133000
DTEND;TZID=Europe/London:20260622T163000
DTSTAMP:20260419T184741
CREATED:20251110T133907Z
LAST-MODIFIED:20251110T133928Z
UID:10000-1782135000-1782145800@ldhub.org.uk
SUMMARY:ACES
DESCRIPTION:ACES				\n				\n		\n				\n				\n					\n\n\n   ← Back\n				\n				\n				\n				\n									| 								\n				\n				\n				\n					\n		\n			June 22\n\n	\n\n	 @ \n\n\n1:30 pm\n\n		\n\n\n\n	\n	 - \n\n4:30 pm\n\n\n\n	\n				\n				\n				\n				\n									| 								\n				\n				\n				\n					\n£50.00 – £75.00 				\n				\n				\n					\n				\n		\n					\n				\n				\n																														\n				\n					\n				\n		\n					\n				\n				\n									Adverse Childhood Experiences (ACEs) have a profound impact on the development\, health\, and well-being of individuals throughout their lives. Understanding ACEs is essential for professionals working with children\, young people\, and families to provide effective support\, intervention\, and trauma-informed care. This training explores the latest research on ACEs\, their long-term effects\, and how they influence behaviour\, mental health\, and life outcomes. Participants will gain insight into the neurological and psychological impact of early adversity\, the link between ACEs and risk-taking behaviours\, and the role of resilience in mitigating their effects. Through interactive discussions and case studies\, attendees will learn practical strategies for identifying\, addressing\, and reducing the impact of ACEs in their professional practice. The session will also explore trauma-informed approaches that promote healing and positive life trajectories for those affected by childhood adversity. By the end of the training\, participants will be equipped with the knowledge and skills to recognise ACEs\, respond effectively\, and implement preventative and supportive measures in their work. Ideal for: Social workers and family support practitionersTeachers\, school staff\, and safeguarding officersYouth workers and community engagement professionalsHealthcare professionals and mental health practitionersPolice officers and frontline workers supporting vulnerable individuals  Key Takeaways: Understanding the research and science behind ACEsRecognising the long-term impact of childhood adversity on mental and physical healthExploring the connection between ACEs\, behaviour\, and risk-takingLearning trauma-informed approaches to support those affected by ACEsDeveloping strategies to build resilience and promote positive life outcomes  Additional Benefits: Enhance your ability to engage with children and families affected by adversityGain confidence in applying trauma-informed care principles in practiceAccess expert guidance on best practices for early intervention and support  This course is essential for professionals committed to improving outcomes for individuals impacted by childhood trauma\, ensuring they receive the support and opportunities needed to thrive. 								\n				\n				\n				\n					\n	\n		\n\n	\n	Add to calendar	\n		\n	\n\n		\n			\n									\n	Google Calendar\n\n									\n	iCalendar\n\n									\n	Outlook 365\n\n									\n	Outlook Live\n\n							\n		\n\n		\n	\n\n				\n				\n		\n		\n				\n				\n					\n	\n\n		\n		\n		\n\n		\n\n\n		\n\n\n\n	Tickets\n\n		\n	\n	\n		The numbers below include tickets for this event already in your cart. Clicking "Get Tickets" will allow you to edit any existing attendee information as well as change ticket quantities.	\n\n\n		\n\n	\n		\n				Early Bird Ticket	\n\n\n\n\n	ACES 22/06/26\n\n\n	\n		\n		\n				\n					£\n					50.00\n				\n						\n\n\n	\n\n\n	\n	 20  available\n\n\n	\n\n\n	\n						\n	Decrease ticket quantity for Early Bird Ticket\n	-\n				\n\n	\n		Quantity	\n	\n\n					\n	Increase ticket quantity for Early Bird Ticket\n	+\n			\n\n	\n		\n	\n\n\n\n	\n		\n				Standard Ticket	\n\n\n\n\n	ACES 22/06/26\n\n\n	\n		\n		\n				\n					£\n					75.00\n				\n						\n\n\n	\n\n\n	\n	 20  available\n\n\n	\n\n\n	\n						\n	Decrease ticket quantity for Standard Ticket\n	-\n				\n\n	\n		Quantity	\n	\n\n					\n	Increase ticket quantity for Standard Ticket\n	+\n			\n\n	\n		\n	\n\n\n		\n\n	\n	\n	\n		Quantity:	\n	0\n\n\n	\n	\n		Total:	\n	\n		\n				\n					£\n					0.00\n				\n				\n\n\n	\n	Log in to purchase\nGet Tickets\n\n		\n				\n			\n	\n\n\n		\n		\n	\n	\n\n	\n	\n\n	\n	\n\n\n\n			\n\n	\n\n\n				\n				\n				\n		\n				\n				\n					\n				\n				\n	\n		Camden High Street	\n	\n	\n\n8-12 Camden High St\n	\n		\n		London\,\n\n\n	NW1 0JH\n\n	United Kingdom\n\n\n\n\n	+ Google Map \n\n\n	\n	Phone:\n					\n			0330 311 0833			\n	 \n\n\n\n	\n\n\n\n		\n	\n				\n				\n				\n				\n		\n				\n				\n					\n	\n		\n\n				Coaching and Mentoring Young People	\n\n\n		\n	\n		Contextual Safeguarding: Child Criminal Exploitation
URL:https://ldhub.org.uk/event/aces-6/
LOCATION:Camden High Street\, 8-12 Camden High St\, London\, NW1 0JH\, United Kingdom
CATEGORIES:Venue Event
ATTACH;FMTTYPE=image/png:https://ldhub.org.uk/wp-content/uploads/2025/08/ACES-1.png
ORGANIZER;CN="Learning and Development Hub":MAILTO:info@ldhub.org.uk
END:VEVENT
END:VCALENDAR