BEGIN:VCALENDAR
VERSION:2.0
PRODID:-//Learning and Development Hub - ECPv6.15.20//NONSGML v1.0//EN
CALSCALE:GREGORIAN
METHOD:PUBLISH
X-WR-CALNAME:Learning and Development Hub
X-ORIGINAL-URL:https://ldhub.org.uk
X-WR-CALDESC:Events for Learning and Development Hub
REFRESH-INTERVAL;VALUE=DURATION:PT1H
X-Robots-Tag:noindex
X-PUBLISHED-TTL:PT1H
BEGIN:VTIMEZONE
TZID:Europe/London
BEGIN:DAYLIGHT
TZOFFSETFROM:+0000
TZOFFSETTO:+0100
TZNAME:BST
DTSTART:20250330T010000
END:DAYLIGHT
BEGIN:STANDARD
TZOFFSETFROM:+0100
TZOFFSETTO:+0000
TZNAME:GMT
DTSTART:20251026T010000
END:STANDARD
BEGIN:DAYLIGHT
TZOFFSETFROM:+0000
TZOFFSETTO:+0100
TZNAME:BST
DTSTART:20260329T010000
END:DAYLIGHT
BEGIN:STANDARD
TZOFFSETFROM:+0100
TZOFFSETTO:+0000
TZNAME:GMT
DTSTART:20261025T010000
END:STANDARD
BEGIN:DAYLIGHT
TZOFFSETFROM:+0000
TZOFFSETTO:+0100
TZNAME:BST
DTSTART:20270328T010000
END:DAYLIGHT
BEGIN:STANDARD
TZOFFSETFROM:+0100
TZOFFSETTO:+0000
TZNAME:GMT
DTSTART:20271031T010000
END:STANDARD
END:VTIMEZONE
BEGIN:VEVENT
DTSTART;TZID=Europe/London:20260617T133000
DTEND;TZID=Europe/London:20260617T163000
DTSTAMP:20260420T222343
CREATED:20251123T175254Z
LAST-MODIFIED:20251123T175313Z
UID:10321-1781703000-1781713800@ldhub.org.uk
SUMMARY:Coaching and Mentoring Young People
DESCRIPTION:Coaching and Mentoring Young People				\n				\n		\n				\n				\n					\n\n\n   ← Back\n				\n				\n				\n				\n									| 								\n				\n				\n				\n					\n		\n			June 17\n\n	\n\n	 @ \n\n\n1:30 pm\n\n		\n\n\n\n	\n	 - \n\n4:30 pm\n\n\n\n	\n				\n				\n				\n				\n									| 								\n				\n				\n				\n					\n£50.00 – £75.00 				\n				\n				\n					\n				\n		\n					\n				\n				\n																														\n				\n					\n				\n		\n					\n				\n				\n									Mentoring can be a valuable part of preventative work\, with evidence suggesting it has a positive impact when delivered in the right way at the right time. When structured effectively\, mentoring supports young people in building resilience\, developing positive relationships\, and accessing new opportunities. \nThis training provides an introduction to best practice approaches for planning\, implementing\, and evaluating effective mentoring. Participants will explore the principles of mentoring\, strategies for working with high-risk young people\, and techniques for fostering trust\, communication\, and resilience. \nThrough interactive discussions and practical exercises\, attendees will gain insights into the importance of relationship building\, boundaries\, conflict resolution\, and empowerment techniques. The session will also cover essential policies and procedures to ensure safe and effective mentoring practices. \nBy the end of the training\, participants will have the skills and confidence to establish structured mentoring programmes\, support young people effectively\, and measure the impact of their work. \nIdeal for: \n\nIndividuals interested in becoming mentors or peer mentors\nSpecialist mentors working with vulnerable young people\nYouth workers\, educators\, and community support workers\nSocial workers and safeguarding professionals\nProfessionals seeking to enhance their coaching and support skills\n\n  \nKey Takeaways: \n\nUnderstanding the role and principles of mentoring\nPlanning and implementing an effective mentoring provision\nExploring strategies for mentoring high-risk young people\nDeveloping reflective listening and effective communication skills\nBuilding positive relationships while maintaining professional boundaries\nApplying conflict resolution and empowerment techniques\nLearning best practices for reporting\, recording\, and monitoring mentoring impact\n\n  \nAdditional Benefits: \n\nGain confidence in supporting young people through structured mentoring\nEnhance communication and relationship-building skills\nLearn practical techniques for promoting resilience and positive outcomes\nAccess expert guidance on policies\, procedures\, and safeguarding considerations\n\n  \nThis course is essential for those looking to develop impactful mentoring relationships\, ensuring young people receive the guidance\, encouragement\, and support they need to thrive. 								\n				\n				\n				\n					\n	\n		\n\n	\n	Add to calendar	\n		\n	\n\n		\n			\n									\n	Google Calendar\n\n									\n	iCalendar\n\n									\n	Outlook 365\n\n									\n	Outlook Live\n\n							\n		\n\n		\n	\n\n				\n				\n		\n		\n				\n				\n					\n	\n\n		\n		\n		\n\n		\n\n\n		\n\n\n\n	Tickets\n\n		\n	\n	\n		The numbers below include tickets for this event already in your cart. Clicking "Get Tickets" will allow you to edit any existing attendee information as well as change ticket quantities.	\n\n\n		\n\n	\n		\n				Early Bird Ticket	\n\n\n\n\n	CMYP 17/06/26\n\n\n	\n		\n		\n				\n					£\n					50.00\n				\n						\n\n\n	\n\n\n	\n	 20  available\n\n\n	\n\n\n	\n						\n	Decrease ticket quantity for Early Bird Ticket\n	-\n				\n\n	\n		Quantity	\n	\n\n					\n	Increase ticket quantity for Early Bird Ticket\n	+\n			\n\n	\n		\n	\n\n\n\n	\n		\n				Standard Ticket	\n\n\n\n\n	CMYP 17/06/26\n\n\n	\n		\n		\n				\n					£\n					75.00\n				\n						\n\n\n	\n\n\n	\n	 20  available\n\n\n	\n\n\n	\n						\n	Decrease ticket quantity for Standard Ticket\n	-\n				\n\n	\n		Quantity	\n	\n\n					\n	Increase ticket quantity for Standard Ticket\n	+\n			\n\n	\n		\n	\n\n\n		\n\n	\n	\n	\n		Quantity:	\n	0\n\n\n	\n	\n		Total:	\n	\n		\n				\n					£\n					0.00\n				\n				\n\n\n	\n	Log in to purchase\nGet Tickets\n\n		\n				\n			\n	\n\n\n		\n		\n	\n	\n\n	\n	\n\n	\n	\n\n\n\n			\n\n	\n\n\n				\n				\n				\n		\n				\n				\n					\n				\n				\n	\n		Camden High Street	\n	\n	\n\n8-12 Camden High St\n	\n		\n		London\,\n\n\n	NW1 0JH\n\n	United Kingdom\n\n\n\n\n	+ Google Map \n\n\n	\n	Phone:\n					\n			0330 311 0833			\n	 \n\n\n\n	\n\n\n\n		\n	\n				\n				\n				\n				\n		\n				\n				\n					\n	\n		\n\n				Delivering Effective Group Work	\n\n\n		\n	\n		ACES
URL:https://ldhub.org.uk/event/coaching-and-mentoring-young-people-4/
LOCATION:Camden High Street\, 8-12 Camden High St\, London\, NW1 0JH\, United Kingdom
CATEGORIES:Venue Event
ATTACH;FMTTYPE=image/png:https://ldhub.org.uk/wp-content/uploads/2025/08/CMYP.png
ORGANIZER;CN="Learning and Development Hub":MAILTO:info@ldhub.org.uk
END:VEVENT
END:VCALENDAR