BEGIN:VCALENDAR
VERSION:2.0
PRODID:-//Learning and Development Hub - ECPv6.15.20//NONSGML v1.0//EN
CALSCALE:GREGORIAN
METHOD:PUBLISH
X-WR-CALNAME:Learning and Development Hub
X-ORIGINAL-URL:https://ldhub.org.uk
X-WR-CALDESC:Events for Learning and Development Hub
REFRESH-INTERVAL;VALUE=DURATION:PT1H
X-Robots-Tag:noindex
X-PUBLISHED-TTL:PT1H
BEGIN:VTIMEZONE
TZID:Europe/London
BEGIN:DAYLIGHT
TZOFFSETFROM:+0000
TZOFFSETTO:+0100
TZNAME:BST
DTSTART:20250330T010000
END:DAYLIGHT
BEGIN:STANDARD
TZOFFSETFROM:+0100
TZOFFSETTO:+0000
TZNAME:GMT
DTSTART:20251026T010000
END:STANDARD
BEGIN:DAYLIGHT
TZOFFSETFROM:+0000
TZOFFSETTO:+0100
TZNAME:BST
DTSTART:20260329T010000
END:DAYLIGHT
BEGIN:STANDARD
TZOFFSETFROM:+0100
TZOFFSETTO:+0000
TZNAME:GMT
DTSTART:20261025T010000
END:STANDARD
BEGIN:DAYLIGHT
TZOFFSETFROM:+0000
TZOFFSETTO:+0100
TZNAME:BST
DTSTART:20270328T010000
END:DAYLIGHT
BEGIN:STANDARD
TZOFFSETFROM:+0100
TZOFFSETTO:+0000
TZNAME:GMT
DTSTART:20271031T010000
END:STANDARD
END:VTIMEZONE
BEGIN:VEVENT
DTSTART;TZID=Europe/London:20260527T100000
DTEND;TZID=Europe/London:20260527T130000
DTSTAMP:20260419T185208
CREATED:20251124T040842Z
LAST-MODIFIED:20251124T123707Z
UID:10927-1779876000-1779886800@ldhub.org.uk
SUMMARY:Contextual Safeguarding: Child Sexual Exploitation
DESCRIPTION:Contextual Safeguarding: Child Sexual Exploitation				\n				\n		\n				\n				\n					\n\n\n   ← Back\n				\n				\n				\n				\n									| 								\n				\n				\n				\n					\n		\n			May 27\n\n	\n\n	 @ \n\n\n10:00 am\n\n		\n\n\n\n	\n	 - \n\n1:00 pm\n\n\n\n	\n				\n				\n				\n				\n									| 								\n				\n				\n				\n					\n£50.00 – £75.00 				\n				\n				\n					\n				\n		\n					\n				\n				\n																														\n				\n					\n				\n		\n					\n				\n				\n									Child Sexual Exploitation (CSE) remains a critical safeguarding concern\, requiring professionals to adopt a contextual approach to identifying\, preventing\, and responding to exploitation. Traditional safeguarding methods often focus on the home environment\, but contextual safeguarding recognises that risks also exist in peer groups\, schools\, neighbourhoods\, and online spaces. This training provides an in-depth understanding of contextual safeguarding and how it applies to CSE. Participants will explore the latest research\, risk indicators\, and intervention strategies\, ensuring they are equipped to safeguard children and young people effectively. The session will also examine the impact of exploitation\, the grooming process\, and the importance of multi-agency collaboration in tackling CSE. Through interactive discussions and case studies\, attendees will develop their ability to assess risk in different contexts\, implement early intervention strategies\, and support young people in a trauma-informed and empowering way. The session will also highlight best practices for working with families and communities to disrupt exploitation and build protective networks around vulnerable children. By the end of the training\, participants will have a deeper understanding of how contextual safeguarding can enhance responses to CSE\, leading to more effective prevention\, intervention\, and support. Ideal for: Social workers and safeguarding leadsYouth workers and community engagement professionalsTeachers\, school staff\, and pastoral support workersPolice officers and law enforcement professionalsHealthcare professionals and mental health practitionersPolicy advisors and professionals involved in child protection strategy  Key Takeaways: Understanding the principles of contextual safeguarding and its application to CSERecognising risk factors and warning signs of child sexual exploitationExploring the grooming process and how perpetrators operate in different contextsDeveloping trauma-informed approaches to supporting victims and survivorsStrengthening multi-agency collaboration to disrupt exploitation and safeguard children  Additional Benefits: Gain confidence in identifying and responding to CSE effectivelyEnhance knowledge of intervention strategies and support servicesLearn practical ways to build protective environments for vulnerable childrenAccess expert guidance on best practices for tackling CSE in different settings  This course is essential for professionals committed to safeguarding children and young people from exploitation\, ensuring they receive the protection\, support\, and justice they deserve. 								\n				\n				\n				\n					\n	\n		\n\n	\n	Add to calendar	\n		\n	\n\n		\n			\n									\n	Google Calendar\n\n									\n	iCalendar\n\n									\n	Outlook 365\n\n									\n	Outlook Live\n\n							\n		\n\n		\n	\n\n				\n				\n				\n				\n					Online Event (Zoom)				\n				\n		\n		\n				\n				\n					\n	\n\n		\n		\n		\n\n		\n\n\n		\n\n\n\n	Tickets\n\n		\n	\n	\n		The numbers below include tickets for this event already in your cart. Clicking "Get Tickets" will allow you to edit any existing attendee information as well as change ticket quantities.	\n\n\n		\n\n	\n		\n				Early Bird Ticket	\n\n\n\n\n	CSE 27/05/26\n\n\n	\n		\n		\n				\n					£\n					50.00\n				\n						\n\n\n	\n\n\n	\n	 20  available\n\n\n	\n\n\n	\n						\n	Decrease ticket quantity for Early Bird Ticket\n	-\n				\n\n	\n		Quantity	\n	\n\n					\n	Increase ticket quantity for Early Bird Ticket\n	+\n			\n\n	\n		\n	\n\n\n\n	\n		\n				Standard Ticket	\n\n\n\n\n	CSE 27/05/26\n\n\n	\n		\n		\n				\n					£\n					75.00\n				\n						\n\n\n	\n\n\n	\n	 20  available\n\n\n	\n\n\n	\n						\n	Decrease ticket quantity for Standard Ticket\n	-\n				\n\n	\n		Quantity	\n	\n\n					\n	Increase ticket quantity for Standard Ticket\n	+\n			\n\n	\n		\n	\n\n\n		\n\n	\n	\n	\n		Quantity:	\n	0\n\n\n	\n	\n		Total:	\n	\n		\n				\n					£\n					0.00\n				\n				\n\n\n	\n	Log in to purchase\nGet Tickets\n\n		\n				\n			\n	\n\n\n		\n		\n	\n	\n\n	\n	\n\n	\n	\n\n\n\n			\n\n	\n\n\n				\n				\n				\n		\n				\n				\n		\n				\n				\n					\n	\n		\n\n				ACES	\n\n\n		\n	\n		Disrupting Bias: Advancing Racial Equity in the Criminal Justice System
URL:https://ldhub.org.uk/event/contextual-safeguarding-child-sexual-exploitation-3/
CATEGORIES:Online Event
ATTACH;FMTTYPE=image/png:https://ldhub.org.uk/wp-content/uploads/2025/08/campaign-against-violence-anhuman-trafficking-2025-03-15-01-03-23-utc-1.png
ORGANIZER;CN="Learning and Development Hub":MAILTO:info@ldhub.org.uk
LOCATION:https://ldhub.org.uk/event/contextual-safeguarding-child-sexual-exploitation-3/
END:VEVENT
END:VCALENDAR