BEGIN:VCALENDAR
VERSION:2.0
PRODID:-//Learning and Development Hub - ECPv6.15.20//NONSGML v1.0//EN
CALSCALE:GREGORIAN
METHOD:PUBLISH
X-WR-CALNAME:Learning and Development Hub
X-ORIGINAL-URL:https://ldhub.org.uk
X-WR-CALDESC:Events for Learning and Development Hub
REFRESH-INTERVAL;VALUE=DURATION:PT1H
X-Robots-Tag:noindex
X-PUBLISHED-TTL:PT1H
BEGIN:VTIMEZONE
TZID:Europe/London
BEGIN:DAYLIGHT
TZOFFSETFROM:+0000
TZOFFSETTO:+0100
TZNAME:BST
DTSTART:20250330T010000
END:DAYLIGHT
BEGIN:STANDARD
TZOFFSETFROM:+0100
TZOFFSETTO:+0000
TZNAME:GMT
DTSTART:20251026T010000
END:STANDARD
BEGIN:DAYLIGHT
TZOFFSETFROM:+0000
TZOFFSETTO:+0100
TZNAME:BST
DTSTART:20260329T010000
END:DAYLIGHT
BEGIN:STANDARD
TZOFFSETFROM:+0100
TZOFFSETTO:+0000
TZNAME:GMT
DTSTART:20261025T010000
END:STANDARD
BEGIN:DAYLIGHT
TZOFFSETFROM:+0000
TZOFFSETTO:+0100
TZNAME:BST
DTSTART:20270328T010000
END:DAYLIGHT
BEGIN:STANDARD
TZOFFSETFROM:+0100
TZOFFSETTO:+0000
TZNAME:GMT
DTSTART:20271031T010000
END:STANDARD
END:VTIMEZONE
BEGIN:VEVENT
DTSTART;TZID=Europe/London:20260317T123000
DTEND;TZID=Europe/London:20260317T153000
DTSTAMP:20260420T110311
CREATED:20251110T215813Z
LAST-MODIFIED:20260107T143629Z
UID:10256-1773750600-1773761400@ldhub.org.uk
SUMMARY:Delivering Effective Group Work
DESCRIPTION:Delivering Effective Group Work				\n				\n		\n				\n				\n					\n\n\n   ← Back\n				\n				\n				\n				\n									| 								\n				\n				\n				\n					\n		\n			March 17\n\n	\n\n	 @ \n\n\n12:30 pm\n\n		\n\n\n\n	\n	 - \n\n3:30 pm\n\n\n\n	\n				\n				\n				\n				\n									| 								\n				\n				\n				\n					\n£50.00 – £75.00 				\n				\n				\n					\n				\n		\n					\n				\n				\n																														\n				\n					\n				\n		\n					\n				\n				\n									Group work is a powerful way to engage\, empower\, and support young people in their development. Well-structured sessions create opportunities for individuals to share experiences\, learn from one another\, and build essential skills. However\, leading effective group work requires a strong understanding of group dynamics\, facilitation techniques\, and strategies to manage different personalities and challenges. This course is designed for educators\, youth workers\, trainers\, and facilitators looking to build confidence in leading interactive\, engaging\, and outcome-driven group sessions. Whether running workshops\, youth programs\, or discussions\, participants will gain the tools to structure sessions effectively\, encourage participation\, and foster an inclusive environment where all voices are heard. The training explores key facilitation principles\, including establishing trust\, managing group energy\, and handling challenges confidently. Participants will also learn techniques for fostering meaningful discussions\, adapting to different learning styles\, and ensuring engagement throughout each session. A variety of facilitation tools and interactive methods will be introduced to help move beyond traditional teaching models. These strategies create dynamic\, participant-led discussions that encourage deeper learning and connection. By the end of the course\, attendees will understand how to design and lead group work that is structured\, inclusive\, and engaging. They will leave with practical techniques that can be applied immediately to make sessions more impactful and enjoyable. Ideal for: Educators\, youth workers\, and community leadersTrainers\, facilitators\, and mentorsSocial workers\, counsellors\, and support staffAnyone involved in leading group-based learning or discussionsKey Takeaways: Understanding group dynamics and fostering positive interactionsTechniques for maintaining engagement and participationTools for handling challenging behaviours and difficult conversationsStrategies for creating inclusive\, safe learning environmentsMethods to structure and deliver impactful group sessionsAdditional Benefits: Build confidence in facilitating group discussionsLearn adaptable techniques for different settingsImprove engagement and interaction in sessionsReceive expert guidance on best practices for group workThis course is ideal for anyone looking to refine their facilitation skills and make their group sessions more effective and engaging. 								\n				\n				\n				\n					\n	\n		\n\n	\n	Add to calendar	\n		\n	\n\n		\n			\n									\n	Google Calendar\n\n									\n	iCalendar\n\n									\n	Outlook 365\n\n									\n	Outlook Live\n\n							\n		\n\n		\n	\n\n				\n				\n		\n		\n				\n				\n					\n	\n\n		\n		\n		\n\n		\n\n\n		\n\n\n\n	Tickets\n\n		\n	\n	\n		The numbers below include tickets for this event already in your cart. Clicking "Get Tickets" will allow you to edit any existing attendee information as well as change ticket quantities.	\n\n\n		\n		\n		\n	\n		Tickets are no longer available	\n\n\n		\n	\n	\n\n	\n	\n\n	\n	\n\n\n\n			\n\n	\n\n\n				\n				\n				\n		\n				\n				\n					\n				\n				\n	\n		Longsight Library and Learning Centre	\n	\n	\n\n519 Stockport Rd\n	\n		\n		Longsight\,\n\n	Manchester\n\n	M12 4NE\n\n\n\n\n\n	+ Google Map \n\n\n	\n	Phone:\n					\n						\n	 \n\n\n\n	\n\n\n\n		\n	\n				\n				\n				\n				\n		\n				\n				\n					\n	\n		\n\n				Coaching and Mentoring Young People	\n\n\n		\n	\n		Understanding Criminal Behaviour Orders (CBOs)
URL:https://ldhub.org.uk/event/delivering-effective-group-work-5/
LOCATION:Longsight Library and Learning Centre\, 519 Stockport Rd\, Longsight\, Manchester\, M12 4NE
CATEGORIES:Venue Event
ATTACH;FMTTYPE=image/png:https://ldhub.org.uk/wp-content/uploads/2025/08/DEGW.png
ORGANIZER;CN="Learning and Development Hub":MAILTO:info@ldhub.org.uk
END:VEVENT
END:VCALENDAR