BEGIN:VCALENDAR
VERSION:2.0
PRODID:-//Learning and Development Hub - ECPv6.15.20//NONSGML v1.0//EN
CALSCALE:GREGORIAN
METHOD:PUBLISH
X-WR-CALNAME:Learning and Development Hub
X-ORIGINAL-URL:https://ldhub.org.uk
X-WR-CALDESC:Events for Learning and Development Hub
REFRESH-INTERVAL;VALUE=DURATION:PT1H
X-Robots-Tag:noindex
X-PUBLISHED-TTL:PT1H
BEGIN:VTIMEZONE
TZID:Europe/London
BEGIN:DAYLIGHT
TZOFFSETFROM:+0000
TZOFFSETTO:+0100
TZNAME:BST
DTSTART:20250330T010000
END:DAYLIGHT
BEGIN:STANDARD
TZOFFSETFROM:+0100
TZOFFSETTO:+0000
TZNAME:GMT
DTSTART:20251026T010000
END:STANDARD
BEGIN:DAYLIGHT
TZOFFSETFROM:+0000
TZOFFSETTO:+0100
TZNAME:BST
DTSTART:20260329T010000
END:DAYLIGHT
BEGIN:STANDARD
TZOFFSETFROM:+0100
TZOFFSETTO:+0000
TZNAME:GMT
DTSTART:20261025T010000
END:STANDARD
BEGIN:DAYLIGHT
TZOFFSETFROM:+0000
TZOFFSETTO:+0100
TZNAME:BST
DTSTART:20270328T010000
END:DAYLIGHT
BEGIN:STANDARD
TZOFFSETFROM:+0100
TZOFFSETTO:+0000
TZNAME:GMT
DTSTART:20271031T010000
END:STANDARD
END:VTIMEZONE
BEGIN:VEVENT
DTSTART;TZID=Europe/London:20260325T133000
DTEND;TZID=Europe/London:20260325T163000
DTSTAMP:20260419T203319
CREATED:20251124T115216Z
LAST-MODIFIED:20251124T115253Z
UID:11112-1774445400-1774456200@ldhub.org.uk
SUMMARY:Disrupting Bias: From Disparities to Educational Equity
DESCRIPTION:Disrupting Bias: From Disparities to Educational Equity				\n				\n		\n				\n				\n					\n\n\n   ← Back\n				\n				\n				\n				\n									| 								\n				\n				\n				\n					\n		\n			March 25\n\n	\n\n	 @ \n\n\n1:30 pm\n\n		\n\n\n\n	\n	 - \n\n4:30 pm\n\n\n\n	\n				\n				\n				\n				\n									| 								\n				\n				\n				\n					\n£50.00 – £75.00 				\n				\n				\n					\n				\n		\n					\n				\n				\n																														\n				\n					\n				\n		\n					\n				\n				\n									The lived experiences of Black and ethnic minority children in the UK education system reveal persistent racial disparities in exclusions\, academic outcomes\, and everyday school life. While awareness of these issues is growing\, meaningful change requires an honest look at the unconscious biases that shape our attitudes\, expectations\, and decisions. This training supports education professionals to explore unconscious bias within the context of racial disproportionality. It provides a deep dive into the science and behavioural patterns of bias\, helping participants to recognise and reflect on their own triggers\, assumptions\, and decision-making processes. The course also examines the broader social and emotional consequences of bias on young people\, families\, and communities. Through guided reflection\, real-world case studies\, and practical exercises\, participants will learn how to challenge bias in their professional practice. The course highlights the need for anti-racist approaches in education and introduces strategies that promote equity\, belonging\, and justice for all students. By the end of the session\, participants will be better equipped to challenge racial disparities in their own settings and contribute to an education system that truly works for every child. Ideal for: Teachers\, teaching assistants\, and school leadersEducational psychologists and SEND professionalsPastoral and inclusion staffLocal authority education teams and school governorsAnyone working with children and young people in education settings  Key Takeaways: Understanding unconscious bias and its influence on perception and decision-makingRecognising the impact of bias on ethnic minority students in the education systemExploring the causes of racial disproportionality in exclusions\, attainment\, and experienceDeveloping bias-aware and anti-racist approaches to education practiceIdentifying practical steps for embedding equity and inclusion at a systemic level  Additional Benefits: Increase self-awareness and accountability in your professional roleLearn strategies to promote fairer outcomes for all studentsAccess tools and techniques to create inclusive\, bias-aware environmentsSupport your school or organisation’s journey toward anti-racism and social justice  This course is essential for education professionals committed to challenging discrimination\, improving equity\, and ensuring all children can thrive within the school system. 								\n				\n				\n				\n					\n	\n		\n\n	\n	Add to calendar	\n		\n	\n\n		\n			\n									\n	Google Calendar\n\n									\n	iCalendar\n\n									\n	Outlook 365\n\n									\n	Outlook Live\n\n							\n		\n\n		\n	\n\n				\n				\n				\n				\n					Online Event (Zoom)				\n				\n		\n		\n				\n				\n					\n	\n\n		\n		\n		\n\n		\n\n\n		\n\n\n\n	Tickets\n\n		\n	\n	\n		The numbers below include tickets for this event already in your cart. Clicking "Get Tickets" will allow you to edit any existing attendee information as well as change ticket quantities.	\n\n\n		\n		\n		\n	\n		Tickets are no longer available	\n\n\n		\n	\n	\n\n	\n	\n\n	\n	\n\n\n\n			\n\n	\n\n\n				\n				\n				\n		\n				\n				\n		\n				\n				\n					\n	\n		\n\n				ACES	\n\n\n		\n	\n		Transition to Adulthood
URL:https://ldhub.org.uk/event/disrupting-bias-from-disparities-to-educational-equity/
CATEGORIES:Online Event
ATTACH;FMTTYPE=image/jpeg:https://ldhub.org.uk/wp-content/uploads/2025/05/shutterstock_2384644513_16x9-scaled.jpg
ORGANIZER;CN="Learning and Development Hub":MAILTO:info@ldhub.org.uk
LOCATION:https://ldhub.org.uk/event/disrupting-bias-from-disparities-to-educational-equity/
END:VEVENT
END:VCALENDAR