BEGIN:VCALENDAR
VERSION:2.0
PRODID:-//Learning and Development Hub - ECPv6.15.20//NONSGML v1.0//EN
CALSCALE:GREGORIAN
METHOD:PUBLISH
X-WR-CALNAME:Learning and Development Hub
X-ORIGINAL-URL:https://ldhub.org.uk
X-WR-CALDESC:Events for Learning and Development Hub
REFRESH-INTERVAL;VALUE=DURATION:PT1H
X-Robots-Tag:noindex
X-PUBLISHED-TTL:PT1H
BEGIN:VTIMEZONE
TZID:Europe/London
BEGIN:DAYLIGHT
TZOFFSETFROM:+0000
TZOFFSETTO:+0100
TZNAME:BST
DTSTART:20240331T010000
END:DAYLIGHT
BEGIN:STANDARD
TZOFFSETFROM:+0100
TZOFFSETTO:+0000
TZNAME:GMT
DTSTART:20241027T010000
END:STANDARD
BEGIN:DAYLIGHT
TZOFFSETFROM:+0000
TZOFFSETTO:+0100
TZNAME:BST
DTSTART:20250330T010000
END:DAYLIGHT
BEGIN:STANDARD
TZOFFSETFROM:+0100
TZOFFSETTO:+0000
TZNAME:GMT
DTSTART:20251026T010000
END:STANDARD
BEGIN:DAYLIGHT
TZOFFSETFROM:+0000
TZOFFSETTO:+0100
TZNAME:BST
DTSTART:20260329T010000
END:DAYLIGHT
BEGIN:STANDARD
TZOFFSETFROM:+0100
TZOFFSETTO:+0000
TZNAME:GMT
DTSTART:20261025T010000
END:STANDARD
END:VTIMEZONE
BEGIN:VEVENT
DTSTART;TZID=Europe/London:20250827T100000
DTEND;TZID=Europe/London:20250827T130000
DTSTAMP:20260420T032159
CREATED:20250505T222422Z
LAST-MODIFIED:20250821T202422Z
UID:7122-1756288800-1756299600@ldhub.org.uk
SUMMARY:Effective Constructive Resettlement
DESCRIPTION:Effective Constructive Resettlement				\n				\n		\n				\n				\n					\n\n\n   ← Back\n				\n				\n				\n				\n									| 								\n				\n				\n				\n					\n		\n			August 27\n\n	\n\n	 @ \n\n\n10:00 am\n\n		\n\n\n\n	\n	 - \n\n1:00 pm\n\n\n\n	\n				\n				\n				\n				\n									| 								\n				\n				\n				\n					\n£50.00 – £75.00 				\n				\n				\n					\n				\n		\n					\n				\n				\n																														\n				\n					\n				\n		\n					\n				\n				\n									Constructive resettlement is a key priority in youth justice\, focusing on supporting young people to build positive identities and reintegrate successfully into their communities. However\, staff often encounter systemic and procedural barriers that can make this ambition difficult to realise. This course provides professionals with a clear understanding of what constructive resettlement entails and the practical tools needed to overcome these challenges. \nThe training explores how Release on Temporary Licence (ROTL) and Supported Prison Leave (SPL) can be used strategically to support resettlement goals\, while also addressing common obstacles such as risk aversion\, inconsistent decision-making\, and limited inter-agency coordination. Participants will examine policy frameworks\, explore the principles behind constructive resettlement\, and develop advocacy skills to better support the young people they work with. \nThrough interactive learning and real-life case examples\, the course will empower staff to plan and deliver more effective resettlement pathways that are strengths-based\, rights-informed\, and tailored to individual needs. \nBy the end of the session\, participants will feel better equipped to advocate for young people and contribute to meaningful resettlement planning that supports long-term change. \nIdeal for: \n\nYouth justice professionals and case managers\nSecure estate staff and through-the-gate workers\nProbation practitioners working with young people\nSocial workers and resettlement teams\nVoluntary and community sector staff involved in release planning\n\nKey Takeaways: \n\nUnderstanding the principles and goals of constructive resettlement\nStrategic use of ROTL and SPL to support reintegration\nIdentifying and overcoming systemic barriers to release and support\nStrengthening multi-agency collaboration and planning\nAdvocating effectively for young people’s resettlement needs\n\nAdditional Benefits: \n\nGain clarity on policy and legal considerations around leave\nBuild confidence in making and supporting ROTL/SPL applications\nEnhance your ability to plan personalised\, identity-focused resettlement journeys\nLearn practical techniques to support young people post-release\n \n\nThis course is essential for professionals committed to improving resettlement outcomes and ensuring that young people leave custody with the tools and support they need to thrive. 								\n				\n				\n				\n					\n	\n		\n\n	\n	Add to calendar	\n		\n	\n\n		\n			\n									\n	Google Calendar\n\n									\n	iCalendar\n\n									\n	Outlook 365\n\n									\n	Outlook Live\n\n							\n		\n\n		\n	\n\n				\n				\n				\n				\n					Online Event (Zoom)				\n				\n		\n		\n				\n				\n					\n	\n\n		\n		\n		\n\n		\n\n\n		\n\n\n\n	Tickets\n\n		\n	\n	\n		The numbers below include tickets for this event already in your cart. Clicking "Get Tickets" will allow you to edit any existing attendee information as well as change ticket quantities.	\n\n\n		\n		\n		\n	\n		Tickets are no longer available	\n\n\n		\n	\n	\n\n	\n	\n\n	\n	\n\n\n\n			\n\n	\n\n\n				\n				\n				\n		\n				\n				\n		\n				\n				\n					\n	\n		\n\n				Transition to Adulthood	\n\n\n		\n	\n		Ableism Awareness
URL:https://ldhub.org.uk/event/effective-constructive-resettlement-2/
CATEGORIES:Online Event
ATTACH;FMTTYPE=image/png:https://ldhub.org.uk/wp-content/uploads/2025/08/ECR1.png
ORGANIZER;CN="Learning and Development Hub":MAILTO:info@ldhub.org.uk
LOCATION:https://ldhub.org.uk/event/effective-constructive-resettlement-2/
END:VEVENT
END:VCALENDAR