BEGIN:VCALENDAR
VERSION:2.0
PRODID:-//Learning and Development Hub - ECPv6.15.20//NONSGML v1.0//EN
CALSCALE:GREGORIAN
METHOD:PUBLISH
X-WR-CALNAME:Learning and Development Hub
X-ORIGINAL-URL:https://ldhub.org.uk
X-WR-CALDESC:Events for Learning and Development Hub
REFRESH-INTERVAL;VALUE=DURATION:PT1H
X-Robots-Tag:noindex
X-PUBLISHED-TTL:PT1H
BEGIN:VTIMEZONE
TZID:Europe/London
BEGIN:DAYLIGHT
TZOFFSETFROM:+0000
TZOFFSETTO:+0100
TZNAME:BST
DTSTART:20240331T010000
END:DAYLIGHT
BEGIN:STANDARD
TZOFFSETFROM:+0100
TZOFFSETTO:+0000
TZNAME:GMT
DTSTART:20241027T010000
END:STANDARD
BEGIN:DAYLIGHT
TZOFFSETFROM:+0000
TZOFFSETTO:+0100
TZNAME:BST
DTSTART:20250330T010000
END:DAYLIGHT
BEGIN:STANDARD
TZOFFSETFROM:+0100
TZOFFSETTO:+0000
TZNAME:GMT
DTSTART:20251026T010000
END:STANDARD
BEGIN:DAYLIGHT
TZOFFSETFROM:+0000
TZOFFSETTO:+0100
TZNAME:BST
DTSTART:20260329T010000
END:DAYLIGHT
BEGIN:STANDARD
TZOFFSETFROM:+0100
TZOFFSETTO:+0000
TZNAME:GMT
DTSTART:20261025T010000
END:STANDARD
END:VTIMEZONE
BEGIN:VEVENT
DTSTART;TZID=Europe/London:20251126T133000
DTEND;TZID=Europe/London:20251126T163000
DTSTAMP:20260420T203819
CREATED:20250504T210922Z
LAST-MODIFIED:20251009T170636Z
UID:6664-1764163800-1764174600@ldhub.org.uk
SUMMARY:Engaging & Empowering Young People
DESCRIPTION:Engaging & Empowering Young People				\n				\n		\n				\n				\n					\n\n\n   ← Back\n				\n				\n				\n				\n									| 								\n				\n				\n				\n					\n		\n			November 26\n\n	\n\n	 @ \n\n\n1:30 pm\n\n		\n\n\n\n	\n	 - \n\n4:30 pm\n\n\n\n	\n				\n				\n				\n				\n									| 								\n				\n				\n				\n					\n£50.00 – £75.00 				\n				\n				\n					\n				\n		\n					\n				\n				\n																														\n				\n					\n				\n		\n					\n				\n				\n									Building meaningful relationships with young people is key to fostering their confidence\, resilience\, and personal growth. Effective engagement strategies ensure that young people feel heard\, valued\, and empowered to take an active role in shaping their futures. This training explores best practice approaches for engaging young people in a way that builds trust\, encourages participation\, and promotes positive outcomes. Participants will gain insight into communication techniques\, strength-based approaches\, and strategies for supporting young people’s autonomy and decision-making. The session will also cover barriers to engagement and how to adapt interventions to meet the diverse needs of young people. Through interactive discussions and case studies\, attendees will learn how to create safe\, inclusive spaces that empower young people to express themselves\, develop self-confidence\, and engage in meaningful opportunities for growth. By the end of the training\, participants will have a stronger understanding of how to engage young people effectively and provide the right support to help them thrive. Ideal for: Youth workers and community engagement professionalsTeachers\, school staff\, and safeguarding officersSocial workers and family support practitionersPolice officers and professionals working with young people in the justice systemCounsellors and mental health professionalsKey Takeaways: Understanding the principles of effective youth engagementDeveloping communication skills to build trust and rapport with young peopleExploring strength-based approaches to empowerment and decision-makingIdentifying barriers to engagement and strategies for overcoming themCreating safe\, inclusive environments where young people feel valued and heardAdditional Benefits: Gain confidence in supporting young people through positive engagement strategiesLearn practical techniques to foster resilience and motivationDevelop skills to encourage active participation and leadership among young peopleAccess expert guidance on best practices for engaging and empowering young peopleThis course is essential for professionals committed to supporting young people in meaningful ways\, ensuring they have the tools\, confidence\, and opportunities to reach their full potential. 								\n				\n				\n				\n					\n	\n		\n\n	\n	Add to calendar	\n		\n	\n\n		\n			\n									\n	Google Calendar\n\n									\n	iCalendar\n\n									\n	Outlook 365\n\n									\n	Outlook Live\n\n							\n		\n\n		\n	\n\n				\n				\n		\n		\n				\n				\n					\n	\n\n		\n		\n		\n\n		\n\n\n		\n\n\n\n	Tickets\n\n		\n	\n	\n		The numbers below include tickets for this event already in your cart. Clicking "Get Tickets" will allow you to edit any existing attendee information as well as change ticket quantities.	\n\n\n		\n		\n		\n	\n		Tickets are no longer available	\n\n\n		\n	\n	\n\n	\n	\n\n	\n	\n\n\n\n			\n\n	\n\n\n				\n				\n				\n		\n				\n				\n					\n				\n				\n	\n		Legacy Centre of Excellence	\n	\n	\n\nLegacy Centre of Excellence\, 144 Potters Lane\n	\n		\n		Birmingham\,\n\n\n	B6 4UU\n\n	United Kingdom\n\n\n\n\n	+ Google Map \n\n\n	\n	Phone:\n					\n						\n	 \n\n\n\n	\n\n\n\n		\n	\n				\n				\n				\n				\n		\n				\n				\n					\n	\n		\n\n				ACES	\n\n\n		\n	\n		Anti-Racism and Allyship
URL:https://ldhub.org.uk/event/engaging-empowering-young-people-3/
LOCATION:Legacy Centre of Excellence\, Legacy Centre of Excellence\, 144 Potters Lane\, Birmingham\, B6 4UU\, United Kingdom
CATEGORIES:Venue Event
ATTACH;FMTTYPE=image/png:https://ldhub.org.uk/wp-content/uploads/2025/08/AEEYP-1.png
END:VEVENT
END:VCALENDAR