BEGIN:VCALENDAR
VERSION:2.0
PRODID:-//Learning and Development Hub - ECPv6.15.20//NONSGML v1.0//EN
CALSCALE:GREGORIAN
METHOD:PUBLISH
X-WR-CALNAME:Learning and Development Hub
X-ORIGINAL-URL:https://ldhub.org.uk
X-WR-CALDESC:Events for Learning and Development Hub
REFRESH-INTERVAL;VALUE=DURATION:PT1H
X-Robots-Tag:noindex
X-PUBLISHED-TTL:PT1H
BEGIN:VTIMEZONE
TZID:Europe/London
BEGIN:DAYLIGHT
TZOFFSETFROM:+0000
TZOFFSETTO:+0100
TZNAME:BST
DTSTART:20250330T010000
END:DAYLIGHT
BEGIN:STANDARD
TZOFFSETFROM:+0100
TZOFFSETTO:+0000
TZNAME:GMT
DTSTART:20251026T010000
END:STANDARD
BEGIN:DAYLIGHT
TZOFFSETFROM:+0000
TZOFFSETTO:+0100
TZNAME:BST
DTSTART:20260329T010000
END:DAYLIGHT
BEGIN:STANDARD
TZOFFSETFROM:+0100
TZOFFSETTO:+0000
TZNAME:GMT
DTSTART:20261025T010000
END:STANDARD
BEGIN:DAYLIGHT
TZOFFSETFROM:+0000
TZOFFSETTO:+0100
TZNAME:BST
DTSTART:20270328T010000
END:DAYLIGHT
BEGIN:STANDARD
TZOFFSETFROM:+0100
TZOFFSETTO:+0000
TZNAME:GMT
DTSTART:20271031T010000
END:STANDARD
END:VTIMEZONE
BEGIN:VEVENT
DTSTART;TZID=Europe/London:20260204T100000
DTEND;TZID=Europe/London:20260204T130000
DTSTAMP:20260420T222856
CREATED:20251123T184540Z
LAST-MODIFIED:20260121T144113Z
UID:10426-1770199200-1770210000@ldhub.org.uk
SUMMARY:Introduction to Youth Justice Services
DESCRIPTION:Introduction to Youth Justice Services				\n				\n		\n				\n				\n					\n\n\n   ← Back\n				\n				\n				\n				\n									| 								\n				\n				\n				\n					\n		\n			February 4\n\n	\n\n	 @ \n\n\n10:00 am\n\n		\n\n\n\n	\n	 - \n\n1:00 pm\n\n\n\n	\n				\n				\n				\n				\n									| 								\n				\n				\n				\n					\n£50.00 – £75.00 				\n				\n				\n					\n				\n		\n					\n				\n				\n																														\n				\n					\n				\n		\n					\n				\n				\n									Youth Justice Services (YJS) play a critical role in supporting children who are in contact with the criminal justice system. Whether you are a foster carer\, placement provider\, or someone interested in pursuing a career in youth justice\, understanding how YJS operates can significantly improve the support you provide to young people. This course offers an accessible introduction to the structure\, roles\, and responsibilities of Youth Justice Services. Participants will explore how YJS teams work with children\, families\, and partner agencies to reduce offending and promote positive outcomes. The session highlights the importance of trauma-informed and child-centred approaches\, as well as the legal and safeguarding frameworks underpinning youth justice. Through practical examples and interactive discussion\, attendees will gain insights into the key processes and interventions within YJS\, including assessments\, court proceedings\, and community-based support. The course also focuses on how carers and support staff can contribute to positive outcomes by fostering strong relationships\, advocating for young people\, and working in partnership with professionals. By the end of the course\, participants will feel more confident in understanding the youth justice landscape and their role in supporting children through it. Ideal for: Foster carers and residential placement providersIndividuals considering a career in youth justiceSupport staff working with young people in or at risk of offendingProfessionals in education\, health\, and social care who liaise with YJSKey Takeaways: Understanding the structure and purpose of Youth Justice ServicesOverview of legal responsibilities and safeguarding in youth justiceInsights into assessment\, court processes\, and community interventionsThe role of carers and support staff in supporting young peopleBuilding effective partnerships with YJS professionalsAdditional Benefits: Develop confidence in navigating youth justice processesGain clarity on how to support children in your care more effectivelyLearn best practices for working collaboratively with YJS teamsUnderstand how to promote stability\, resilience\, and positive outcomes for young people  This course is ideal for those who want to make a meaningful contribution to the lives of young people involved in the youth justice system and work more effectively within a multi-agency framework. 								\n				\n				\n				\n					\n	\n		\n\n	\n	Add to calendar	\n		\n	\n\n		\n			\n									\n	Google Calendar\n\n									\n	iCalendar\n\n									\n	Outlook 365\n\n									\n	Outlook Live\n\n							\n		\n\n		\n	\n\n				\n				\n				\n				\n					Online Event (Zoom)				\n				\n		\n		\n				\n				\n					\n	\n\n		\n		\n		\n\n		\n\n\n		\n\n\n\n	Tickets\n\n		\n	\n	\n		The numbers below include tickets for this event already in your cart. Clicking "Get Tickets" will allow you to edit any existing attendee information as well as change ticket quantities.	\n\n\n		\n		\n		\n	\n		Tickets are no longer available	\n\n\n		\n	\n	\n\n	\n	\n\n	\n	\n\n\n\n			\n\n	\n\n\n				\n				\n				\n		\n				\n				\n		\n				\n				\n					\n	\n		\n\n				Disrupting Bias: Advancing Racial Equity in the Criminal Justice System	\n\n\n		\n	\n		Anti-Racism and Allyship
URL:https://ldhub.org.uk/event/introduction-to-youth-justice-services-3/
CATEGORIES:Online Event
ATTACH;FMTTYPE=image/png:https://ldhub.org.uk/wp-content/uploads/2025/08/YJS.png
ORGANIZER;CN="Learning and Development Hub":MAILTO:info@ldhub.org.uk
LOCATION:https://ldhub.org.uk/event/introduction-to-youth-justice-services-3/
END:VEVENT
END:VCALENDAR