BEGIN:VCALENDAR
VERSION:2.0
PRODID:-//Learning and Development Hub - ECPv6.15.20//NONSGML v1.0//EN
CALSCALE:GREGORIAN
METHOD:PUBLISH
X-WR-CALNAME:Learning and Development Hub
X-ORIGINAL-URL:https://ldhub.org.uk
X-WR-CALDESC:Events for Learning and Development Hub
REFRESH-INTERVAL;VALUE=DURATION:PT1H
X-Robots-Tag:noindex
X-PUBLISHED-TTL:PT1H
BEGIN:VTIMEZONE
TZID:Europe/London
BEGIN:DAYLIGHT
TZOFFSETFROM:+0000
TZOFFSETTO:+0100
TZNAME:BST
DTSTART:20250330T010000
END:DAYLIGHT
BEGIN:STANDARD
TZOFFSETFROM:+0100
TZOFFSETTO:+0000
TZNAME:GMT
DTSTART:20251026T010000
END:STANDARD
BEGIN:DAYLIGHT
TZOFFSETFROM:+0000
TZOFFSETTO:+0100
TZNAME:BST
DTSTART:20260329T010000
END:DAYLIGHT
BEGIN:STANDARD
TZOFFSETFROM:+0100
TZOFFSETTO:+0000
TZNAME:GMT
DTSTART:20261025T010000
END:STANDARD
BEGIN:DAYLIGHT
TZOFFSETFROM:+0000
TZOFFSETTO:+0100
TZNAME:BST
DTSTART:20270328T010000
END:DAYLIGHT
BEGIN:STANDARD
TZOFFSETFROM:+0100
TZOFFSETTO:+0000
TZNAME:GMT
DTSTART:20271031T010000
END:STANDARD
END:VTIMEZONE
BEGIN:VEVENT
DTSTART;TZID=Europe/London:20260312T133000
DTEND;TZID=Europe/London:20260312T163000
DTSTAMP:20260419T203449
CREATED:20251124T052405Z
LAST-MODIFIED:20260121T145054Z
UID:11036-1773322200-1773333000@ldhub.org.uk
SUMMARY:Understanding Experiences of Care Experienced Young People
DESCRIPTION:Understanding Experiences of Care Experienced Young People				\n				\n		\n				\n				\n					\n\n\n   ← Back\n				\n				\n				\n				\n									| 								\n				\n				\n				\n					\n		\n			March 12\n\n	\n\n	 @ \n\n\n1:30 pm\n\n		\n\n\n\n	\n	 - \n\n4:30 pm\n\n\n\n	\n				\n				\n				\n				\n									| 								\n				\n				\n				\n					\n£50.00 – £75.00 				\n				\n				\n					\n				\n		\n					\n				\n				\n																														\n				\n					\n				\n		\n					\n				\n				\n									Young people who have been in the care system often face unique challenges that shape their development\, relationships\, and life outcomes. Understanding their lived experiences is essential for professionals working to provide effective support\, advocacy\, and services that promote stability and opportunity. This training explores the realities faced by care-experienced young people\, including the impact of trauma\, attachment\, and transitions in care. Participants will gain insights into the systemic barriers that affect their education\, mental health\, and social mobility\, as well as the strengths and resilience that many young people develop through their experiences. Through interactive discussions and real-world case studies\, attendees will learn best practices for supporting care-experienced young people in a way that prioritises their voice\, agency\, and well-being. The session will also explore how professionals can foster meaningful relationships\, challenge stigma\, and advocate for policies that improve outcomes. By the end of the training\, participants will have a deeper understanding of the care system\, the challenges faced by care-experienced young people\, and practical strategies to provide better support and engagement. Ideal for: Social workers and safeguarding professionalsTeachers\, school staff\, and pastoral support workersYouth workers and mentoring professionalsHealthcare professionals and mental health practitionersFoster carers and residential care staffPolicy advisors and professionals involved in care system strategy  Key Takeaways: Understanding the impact of care experiences on young people’s development and well-beingRecognising the challenges faced in education\, mental health\, and independenceExploring trauma-informed approaches to support and engagementDeveloping strategies to build trust and meaningful relationshipsAdvocating for better policies and opportunities for care-experienced young people  Additional Benefits: Gain confidence in working with care-experienced young peopleLearn practical techniques for fostering stability\, resilience\, and empowermentEnhance knowledge of systemic issues within the care systemAccess expert guidance on best practices for improving outcomes  This course is essential for professionals committed to ensuring care-experienced young people receive the support\, respect\, and opportunities they need to thrive. 								\n				\n				\n				\n					\n	\n		\n\n	\n	Add to calendar	\n		\n	\n\n		\n			\n									\n	Google Calendar\n\n									\n	iCalendar\n\n									\n	Outlook 365\n\n									\n	Outlook Live\n\n							\n		\n\n		\n	\n\n				\n				\n				\n				\n					Online Event (Zoom)				\n				\n		\n		\n				\n				\n					\n	\n\n		\n		\n		\n\n		\n\n\n		\n\n\n\n	Tickets\n\n		\n	\n	\n		The numbers below include tickets for this event already in your cart. Clicking "Get Tickets" will allow you to edit any existing attendee information as well as change ticket quantities.	\n\n\n		\n		\n		\n	\n		Tickets are no longer available	\n\n\n		\n	\n	\n\n	\n	\n\n	\n	\n\n\n\n			\n\n	\n\n\n				\n				\n				\n		\n				\n				\n		\n				\n				\n					\n	\n		\n\n				Delivering Effective Group Work	\n\n\n		\n	\n		Coaching and Mentoring Young People
URL:https://ldhub.org.uk/event/understanding-experiences-of-care-experienced-young-people/
CATEGORIES:Online Event
ATTACH;FMTTYPE=image/jpeg:https://ldhub.org.uk/wp-content/uploads/2025/08/ceyp_resized.jpg
ORGANIZER;CN="Learning and Development Hub":MAILTO:info@ldhub.org.uk
LOCATION:https://ldhub.org.uk/event/understanding-experiences-of-care-experienced-young-people/
END:VEVENT
END:VCALENDAR