BEGIN:VCALENDAR
VERSION:2.0
PRODID:-//Learning and Development Hub - ECPv6.15.20//NONSGML v1.0//EN
CALSCALE:GREGORIAN
METHOD:PUBLISH
X-WR-CALNAME:Learning and Development Hub
X-ORIGINAL-URL:https://ldhub.org.uk
X-WR-CALDESC:Events for Learning and Development Hub
REFRESH-INTERVAL;VALUE=DURATION:PT1H
X-Robots-Tag:noindex
X-PUBLISHED-TTL:PT1H
BEGIN:VTIMEZONE
TZID:Europe/London
BEGIN:DAYLIGHT
TZOFFSETFROM:+0000
TZOFFSETTO:+0100
TZNAME:BST
DTSTART:20250330T010000
END:DAYLIGHT
BEGIN:STANDARD
TZOFFSETFROM:+0100
TZOFFSETTO:+0000
TZNAME:GMT
DTSTART:20251026T010000
END:STANDARD
BEGIN:DAYLIGHT
TZOFFSETFROM:+0000
TZOFFSETTO:+0100
TZNAME:BST
DTSTART:20260329T010000
END:DAYLIGHT
BEGIN:STANDARD
TZOFFSETFROM:+0100
TZOFFSETTO:+0000
TZNAME:GMT
DTSTART:20261025T010000
END:STANDARD
BEGIN:DAYLIGHT
TZOFFSETFROM:+0000
TZOFFSETTO:+0100
TZNAME:BST
DTSTART:20270328T010000
END:DAYLIGHT
BEGIN:STANDARD
TZOFFSETFROM:+0100
TZOFFSETTO:+0000
TZNAME:GMT
DTSTART:20271031T010000
END:STANDARD
END:VTIMEZONE
BEGIN:VEVENT
DTSTART;TZID=Europe/London:20260513T100000
DTEND;TZID=Europe/London:20260513T130000
DTSTAMP:20260419T203405
CREATED:20251124T032452Z
LAST-MODIFIED:20251124T032544Z
UID:10852-1778666400-1778677200@ldhub.org.uk
SUMMARY:Youth Justice Court Overview
DESCRIPTION:Youth Justice Court Overview				\n				\n		\n				\n				\n					\n\n\n   ← Back\n				\n				\n				\n				\n									| 								\n				\n				\n				\n					\n		\n			May 13\n\n	\n\n	 @ \n\n\n10:00 am\n\n		\n\n\n\n	\n	 - \n\n1:00 pm\n\n\n\n	\n				\n				\n				\n				\n									| 								\n				\n				\n				\n					\n£50.00 – £75.00 				\n				\n				\n					\n				\n		\n					\n				\n				\n																														\n				\n					\n				\n		\n					\n				\n				\n									Navigating the youth justice system requires a comprehensive understanding of its processes\, principles\, and the unique challenges faced by young people in the legal system. This training is designed to provide professionals with a clear overview of how youth courts operate\, the key roles involved\, and the legal frameworks that govern youth justice proceedings. Participants will explore the differences between youth and adult courts\, examining how sentencing\, rehabilitation\, and diversionary measures are applied to young people. The session will also cover the rights of young people in the justice system\, the role of legal representatives\, and how multi-agency collaboration can support better outcomes for vulnerable youth. Through interactive discussions and real-world case studies\, attendees will gain practical insights into best practices for working with young people in court settings\, ensuring that legal processes remain fair\, just\, and focused on rehabilitation. By the end of the training\, participants will have a clearer understanding of the youth court system\, enabling them to navigate legal proceedings with confidence and contribute to positive interventions for young people in conflict with the law. Ideal for: Youth Justice Case Workers and social workersLegal professionals and court staffPolice officers and law enforcement professionalsProbation officers and community support workersEducators and safeguarding officers  Key Takeaways: Understanding the structure and function of youth courtsExploring the legal rights of young people in the justice systemExamining sentencing\, rehabilitation\, and diversionary approachesLearning best practices for supporting young people in court  Additional Benefits: Develop confidence in engaging with the youth court processEnhance knowledge of legal terminology and proceduresGain strategies to advocate for fairer outcomes for young people  This course is essential for professionals seeking to improve their understanding of youth justice and support young people through the court system effectively. 								\n				\n				\n				\n					\n	\n		\n\n	\n	Add to calendar	\n		\n	\n\n		\n			\n									\n	Google Calendar\n\n									\n	iCalendar\n\n									\n	Outlook 365\n\n									\n	Outlook Live\n\n							\n		\n\n		\n	\n\n				\n				\n				\n				\n					Online Event (Zoom)				\n				\n		\n		\n				\n				\n					\n	\n\n		\n		\n		\n\n		\n\n\n		\n\n\n\n	Tickets\n\n		\n	\n	\n		The numbers below include tickets for this event already in your cart. Clicking "Get Tickets" will allow you to edit any existing attendee information as well as change ticket quantities.	\n\n\n		\n\n	\n		\n				Early Bird Ticket	\n\n\n\n\n	YJCO 13/05/26\n\n\n	\n		\n		\n				\n					£\n					50.00\n				\n						\n\n\n	\n\n\n	\n	 20  available\n\n\n	\n\n\n	\n						\n	Decrease ticket quantity for Early Bird Ticket\n	-\n				\n\n	\n		Quantity	\n	\n\n					\n	Increase ticket quantity for Early Bird Ticket\n	+\n			\n\n	\n		\n	\n\n\n\n	\n		\n				Standard Ticket	\n\n\n\n\n	YJCO 13/05/26\n\n\n	\n		\n		\n				\n					£\n					75.00\n				\n						\n\n\n	\n\n\n	\n	 20  available\n\n\n	\n\n\n	\n						\n	Decrease ticket quantity for Standard Ticket\n	-\n				\n\n	\n		Quantity	\n	\n\n					\n	Increase ticket quantity for Standard Ticket\n	+\n			\n\n	\n		\n	\n\n\n		\n\n	\n	\n	\n		Quantity:	\n	0\n\n\n	\n	\n		Total:	\n	\n		\n				\n					£\n					0.00\n				\n				\n\n\n	\n	Log in to purchase\nGet Tickets\n\n		\n				\n			\n	\n\n\n		\n		\n	\n	\n\n	\n	\n\n	\n	\n\n\n\n			\n\n	\n\n\n				\n				\n				\n		\n				\n				\n		\n				\n				\n					\n	\n		\n\n				Disrupting Bias: Advancing Racial Equity in the Criminal Justice System	\n\n\n		\n	\n		Coaching and Mentoring Young People
URL:https://ldhub.org.uk/event/youth-justice-court-overview-3/
CATEGORIES:Online Event
ATTACH;FMTTYPE=image/png:https://ldhub.org.uk/wp-content/uploads/2025/08/YJSC.png
ORGANIZER;CN="Learning and Development Hub":MAILTO:info@ldhub.org.uk
LOCATION:https://ldhub.org.uk/event/youth-justice-court-overview-3/
END:VEVENT
END:VCALENDAR