BEGIN:VCALENDAR
VERSION:2.0
PRODID:-//Learning and Development Hub - ECPv6.15.20//NONSGML v1.0//EN
CALSCALE:GREGORIAN
METHOD:PUBLISH
X-WR-CALNAME:Learning and Development Hub
X-ORIGINAL-URL:https://ldhub.org.uk
X-WR-CALDESC:Events for Learning and Development Hub
REFRESH-INTERVAL;VALUE=DURATION:PT1H
X-Robots-Tag:noindex
X-PUBLISHED-TTL:PT1H
BEGIN:VTIMEZONE
TZID:Europe/London
BEGIN:DAYLIGHT
TZOFFSETFROM:+0000
TZOFFSETTO:+0100
TZNAME:BST
DTSTART:20240331T010000
END:DAYLIGHT
BEGIN:STANDARD
TZOFFSETFROM:+0100
TZOFFSETTO:+0000
TZNAME:GMT
DTSTART:20241027T010000
END:STANDARD
BEGIN:DAYLIGHT
TZOFFSETFROM:+0000
TZOFFSETTO:+0100
TZNAME:BST
DTSTART:20250330T010000
END:DAYLIGHT
BEGIN:STANDARD
TZOFFSETFROM:+0100
TZOFFSETTO:+0000
TZNAME:GMT
DTSTART:20251026T010000
END:STANDARD
BEGIN:DAYLIGHT
TZOFFSETFROM:+0000
TZOFFSETTO:+0100
TZNAME:BST
DTSTART:20260329T010000
END:DAYLIGHT
BEGIN:STANDARD
TZOFFSETFROM:+0100
TZOFFSETTO:+0000
TZNAME:GMT
DTSTART:20261025T010000
END:STANDARD
END:VTIMEZONE
BEGIN:VEVENT
DTSTART;TZID=Europe/London:20250807T100000
DTEND;TZID=Europe/London:20250807T130000
DTSTAMP:20260420T160829
CREATED:20250504T234558Z
LAST-MODIFIED:20250803T152206Z
UID:10000078-1754560800-1754571600@ldhub.org.uk
SUMMARY:Transition to Adulthood
DESCRIPTION:Trauma and Child Criminal Exploitation				\n				\n		\n				\n				\n					\n\n\n   ← Back\n				\n				\n				\n				\n									| 								\n				\n				\n				\n					\n		\n			March 6\n\n	\n\n	 @ \n\n\n10:00 am\n\n		\n\n\n\n	\n	 - \n\n4:00 pm\n\n\n\n	\n				\n				\n				\n				\n									| 								\n				\n				\n				\n					\n£100.00 – £150.00 				\n				\n				\n					\n				\n		\n					\n				\n				\n																														\n				\n					\n				\n		\n					\n				\n				\n									Children and young people affected by serious youth violence and child criminal exploitation (CCE) often experience significant trauma that shapes their behaviour\, decision-making\, and ability to seek help. Understanding trauma and applying trauma-informed practice is essential for professionals working with vulnerable individuals who have been coerced\, manipulated\, or exposed to high-risk environments. This course explores the dynamics of trauma\, its impact on brain development\, behaviour\, and emotional wellbeing\, and how it relates to CCE. Participants will gain an in-depth understanding of how trauma affects young people’s ability to engage with support services and develop practical strategies to respond with sensitivity and effectiveness. The session emphasises a strengths-based approach\, helping professionals to support resilience\, recovery\, and empowerment rather than reinforcing feelings of shame or victimisation. The training will also examine the tactics used by exploiters\, the role of adverse childhood experiences (ACEs)\, and how trauma-informed interventions can prevent further harm. Attendees will learn how to create safe\, supportive spaces for young people\, build trust\, and implement strategies that encourage engagement without re-traumatisation. By the end of the course\, participants will have the knowledge and confidence to recognise trauma responses\, apply trauma-informed techniques\, and support young people in navigating their experiences with a focus on resilience and long-term wellbeing. Ideal for: Youth workers\, social workers\, and safeguarding professionalsEducators\, school staff\, and alternative provision teamsMental health practitioners and therapeutic professionalsPolice officers\, legal professionals\, and community safety teams Key Takeaways: Understanding the impact of trauma on young people affected by CCERecognising trauma responses and behaviours in at-risk individualsApplying trauma-informed practice to build trust and engagementStrength-based approaches to supporting resilience and recoveryEffective multi-agency collaboration to safeguard vulnerable young people Additional Benefits: Gain confidence in working with trauma-affected young peopleLearn practical strategies for preventing re-traumatisationDevelop a deeper understanding of ACEs and their long-term impactAccess expert insights on trauma-informed safeguarding practices This course is essential for professionals seeking to deepen their understanding of trauma and child criminal exploitation while equipping themselves with the tools to provide compassionate and effective support. 								\n				\n				\n				\n					\n	\n		\n\n	\n	Add to calendar	\n		\n	\n\n		\n			\n									\n	Google Calendar\n\n									\n	iCalendar\n\n									\n	Outlook 365\n\n									\n	Outlook Live\n\n							\n		\n\n		\n	\n\n				\n				\n		\n		\n				\n				\n					\n	\n\n		\n		\n		\n\n		\n\n\n		\n\n\n\n	Tickets\n\n		\n	\n	\n		The numbers below include tickets for this event already in your cart. Clicking "Get Tickets" will allow you to edit any existing attendee information as well as change ticket quantities.	\n\n\n		\n		\n		\n	\n		Tickets are no longer available	\n\n\n		\n	\n	\n\n	\n	\n\n	\n	\n\n\n\n			\n\n	\n\n\n				\n				\n				\n		\n				\n				\n					\n				\n				\n	\n		Camden High Street	\n	\n	\n\n8-12 Camden High St\n	\n		\n		London\,\n\n\n	NW1 0JH\n\n	United Kingdom\n\n\n\n\n	+ Google Map \n\n\n	\n	Phone:\n					\n			0330 311 0833			\n	 \n\n\n\n	\n\n\n\n		\n	\n				\n				\n				\n				\n		\n				\n				\n					\n	\n		\n\n				Adolescent Mental Health	\n\n\n		\n	\n		Disrupting Bias: Advancing Racial Equity in the Criminal Justice System
URL:https://ldhub.org.uk/event/transition-to-adulthood-4/
CATEGORIES:Online Event
ORGANIZER;CN="Learning and Development Hub":MAILTO:info@ldhub.org.uk
LOCATION:https://ldhub.org.uk/event/transition-to-adulthood-4/
END:VEVENT
BEGIN:VEVENT
DTSTART;TZID=Europe/London:20250730T160000
DTEND;TZID=Europe/London:20250730T170000
DTSTAMP:20260420T160830
CREATED:20250407T015309Z
LAST-MODIFIED:20250714T225728Z
UID:10000056-1753891200-1753894800@ldhub.org.uk
SUMMARY:Experiences of Care Experienced Young People
DESCRIPTION:Trauma and Child Criminal Exploitation				\n				\n		\n				\n				\n					\n\n\n   ← Back\n				\n				\n				\n				\n									| 								\n				\n				\n				\n					\n		\n			March 6\n\n	\n\n	 @ \n\n\n10:00 am\n\n		\n\n\n\n	\n	 - \n\n4:00 pm\n\n\n\n	\n				\n				\n				\n				\n									| 								\n				\n				\n				\n					\n£100.00 – £150.00 				\n				\n				\n					\n				\n		\n					\n				\n				\n																														\n				\n					\n				\n		\n					\n				\n				\n									Children and young people affected by serious youth violence and child criminal exploitation (CCE) often experience significant trauma that shapes their behaviour\, decision-making\, and ability to seek help. Understanding trauma and applying trauma-informed practice is essential for professionals working with vulnerable individuals who have been coerced\, manipulated\, or exposed to high-risk environments. This course explores the dynamics of trauma\, its impact on brain development\, behaviour\, and emotional wellbeing\, and how it relates to CCE. Participants will gain an in-depth understanding of how trauma affects young people’s ability to engage with support services and develop practical strategies to respond with sensitivity and effectiveness. The session emphasises a strengths-based approach\, helping professionals to support resilience\, recovery\, and empowerment rather than reinforcing feelings of shame or victimisation. The training will also examine the tactics used by exploiters\, the role of adverse childhood experiences (ACEs)\, and how trauma-informed interventions can prevent further harm. Attendees will learn how to create safe\, supportive spaces for young people\, build trust\, and implement strategies that encourage engagement without re-traumatisation. By the end of the course\, participants will have the knowledge and confidence to recognise trauma responses\, apply trauma-informed techniques\, and support young people in navigating their experiences with a focus on resilience and long-term wellbeing. Ideal for: Youth workers\, social workers\, and safeguarding professionalsEducators\, school staff\, and alternative provision teamsMental health practitioners and therapeutic professionalsPolice officers\, legal professionals\, and community safety teams Key Takeaways: Understanding the impact of trauma on young people affected by CCERecognising trauma responses and behaviours in at-risk individualsApplying trauma-informed practice to build trust and engagementStrength-based approaches to supporting resilience and recoveryEffective multi-agency collaboration to safeguard vulnerable young people Additional Benefits: Gain confidence in working with trauma-affected young peopleLearn practical strategies for preventing re-traumatisationDevelop a deeper understanding of ACEs and their long-term impactAccess expert insights on trauma-informed safeguarding practices This course is essential for professionals seeking to deepen their understanding of trauma and child criminal exploitation while equipping themselves with the tools to provide compassionate and effective support. 								\n				\n				\n				\n					\n	\n		\n\n	\n	Add to calendar	\n		\n	\n\n		\n			\n									\n	Google Calendar\n\n									\n	iCalendar\n\n									\n	Outlook 365\n\n									\n	Outlook Live\n\n							\n		\n\n		\n	\n\n				\n				\n		\n		\n				\n				\n					\n	\n\n		\n		\n		\n\n		\n\n\n		\n\n\n\n	Tickets\n\n		\n	\n	\n		The numbers below include tickets for this event already in your cart. Clicking "Get Tickets" will allow you to edit any existing attendee information as well as change ticket quantities.	\n\n\n		\n		\n		\n	\n		Tickets are no longer available	\n\n\n		\n	\n	\n\n	\n	\n\n	\n	\n\n\n\n			\n\n	\n\n\n				\n				\n				\n		\n				\n				\n					\n				\n				\n	\n		Camden High Street	\n	\n	\n\n8-12 Camden High St\n	\n		\n		London\,\n\n\n	NW1 0JH\n\n	United Kingdom\n\n\n\n\n	+ Google Map \n\n\n	\n	Phone:\n					\n			0330 311 0833			\n	 \n\n\n\n	\n\n\n\n		\n	\n				\n				\n				\n				\n		\n				\n				\n					\n	\n		\n\n				Adolescent Mental Health	\n\n\n		\n	\n		Disrupting Bias: Advancing Racial Equity in the Criminal Justice System
URL:https://ldhub.org.uk/event/experiences-of-care-experienced-young-people/
CATEGORIES:Webinar
ORGANIZER;CN="Learning and Development Hub":MAILTO:info@ldhub.org.uk
LOCATION:https://ldhub.org.uk/event/experiences-of-care-experienced-young-people/
END:VEVENT
BEGIN:VEVENT
DTSTART;TZID=Europe/London:20250707T100000
DTEND;TZID=Europe/London:20250707T130000
DTSTAMP:20260420T160830
CREATED:20250504T233708Z
LAST-MODIFIED:20250616T121946Z
UID:10000077-1751882400-1751893200@ldhub.org.uk
SUMMARY:Transition to Adulthood
DESCRIPTION:Trauma and Child Criminal Exploitation				\n				\n		\n				\n				\n					\n\n\n   ← Back\n				\n				\n				\n				\n									| 								\n				\n				\n				\n					\n		\n			March 6\n\n	\n\n	 @ \n\n\n10:00 am\n\n		\n\n\n\n	\n	 - \n\n4:00 pm\n\n\n\n	\n				\n				\n				\n				\n									| 								\n				\n				\n				\n					\n£100.00 – £150.00 				\n				\n				\n					\n				\n		\n					\n				\n				\n																														\n				\n					\n				\n		\n					\n				\n				\n									Children and young people affected by serious youth violence and child criminal exploitation (CCE) often experience significant trauma that shapes their behaviour\, decision-making\, and ability to seek help. Understanding trauma and applying trauma-informed practice is essential for professionals working with vulnerable individuals who have been coerced\, manipulated\, or exposed to high-risk environments. This course explores the dynamics of trauma\, its impact on brain development\, behaviour\, and emotional wellbeing\, and how it relates to CCE. Participants will gain an in-depth understanding of how trauma affects young people’s ability to engage with support services and develop practical strategies to respond with sensitivity and effectiveness. The session emphasises a strengths-based approach\, helping professionals to support resilience\, recovery\, and empowerment rather than reinforcing feelings of shame or victimisation. The training will also examine the tactics used by exploiters\, the role of adverse childhood experiences (ACEs)\, and how trauma-informed interventions can prevent further harm. Attendees will learn how to create safe\, supportive spaces for young people\, build trust\, and implement strategies that encourage engagement without re-traumatisation. By the end of the course\, participants will have the knowledge and confidence to recognise trauma responses\, apply trauma-informed techniques\, and support young people in navigating their experiences with a focus on resilience and long-term wellbeing. Ideal for: Youth workers\, social workers\, and safeguarding professionalsEducators\, school staff\, and alternative provision teamsMental health practitioners and therapeutic professionalsPolice officers\, legal professionals\, and community safety teams Key Takeaways: Understanding the impact of trauma on young people affected by CCERecognising trauma responses and behaviours in at-risk individualsApplying trauma-informed practice to build trust and engagementStrength-based approaches to supporting resilience and recoveryEffective multi-agency collaboration to safeguard vulnerable young people Additional Benefits: Gain confidence in working with trauma-affected young peopleLearn practical strategies for preventing re-traumatisationDevelop a deeper understanding of ACEs and their long-term impactAccess expert insights on trauma-informed safeguarding practices This course is essential for professionals seeking to deepen their understanding of trauma and child criminal exploitation while equipping themselves with the tools to provide compassionate and effective support. 								\n				\n				\n				\n					\n	\n		\n\n	\n	Add to calendar	\n		\n	\n\n		\n			\n									\n	Google Calendar\n\n									\n	iCalendar\n\n									\n	Outlook 365\n\n									\n	Outlook Live\n\n							\n		\n\n		\n	\n\n				\n				\n		\n		\n				\n				\n					\n	\n\n		\n		\n		\n\n		\n\n\n		\n\n\n\n	Tickets\n\n		\n	\n	\n		The numbers below include tickets for this event already in your cart. Clicking "Get Tickets" will allow you to edit any existing attendee information as well as change ticket quantities.	\n\n\n		\n		\n		\n	\n		Tickets are no longer available	\n\n\n		\n	\n	\n\n	\n	\n\n	\n	\n\n\n\n			\n\n	\n\n\n				\n				\n				\n		\n				\n				\n					\n				\n				\n	\n		Camden High Street	\n	\n	\n\n8-12 Camden High St\n	\n		\n		London\,\n\n\n	NW1 0JH\n\n	United Kingdom\n\n\n\n\n	+ Google Map \n\n\n	\n	Phone:\n					\n			0330 311 0833			\n	 \n\n\n\n	\n\n\n\n		\n	\n				\n				\n				\n				\n		\n				\n				\n					\n	\n		\n\n				Adolescent Mental Health	\n\n\n		\n	\n		Disrupting Bias: Advancing Racial Equity in the Criminal Justice System
URL:https://ldhub.org.uk/event/transition-to-adulthood-3/
LOCATION:Friends’ Meeting House\, Manchester\, Friends’ Meeting House\, 6 Mount Street\, Manchester\, M2 5NS\, United Kingdom
CATEGORIES:Venue Event
ORGANIZER;CN="Learning and Development Hub":MAILTO:info@ldhub.org.uk
END:VEVENT
END:VCALENDAR