BEGIN:VCALENDAR
VERSION:2.0
PRODID:-//Learning and Development Hub - ECPv6.15.20//NONSGML v1.0//EN
CALSCALE:GREGORIAN
METHOD:PUBLISH
X-ORIGINAL-URL:https://ldhub.org.uk
X-WR-CALDESC:Events for Learning and Development Hub
REFRESH-INTERVAL;VALUE=DURATION:PT1H
X-Robots-Tag:noindex
X-PUBLISHED-TTL:PT1H
BEGIN:VTIMEZONE
TZID:Europe/London
BEGIN:DAYLIGHT
TZOFFSETFROM:+0000
TZOFFSETTO:+0100
TZNAME:BST
DTSTART:20250330T010000
END:DAYLIGHT
BEGIN:STANDARD
TZOFFSETFROM:+0100
TZOFFSETTO:+0000
TZNAME:GMT
DTSTART:20251026T010000
END:STANDARD
BEGIN:DAYLIGHT
TZOFFSETFROM:+0000
TZOFFSETTO:+0100
TZNAME:BST
DTSTART:20260329T010000
END:DAYLIGHT
BEGIN:STANDARD
TZOFFSETFROM:+0100
TZOFFSETTO:+0000
TZNAME:GMT
DTSTART:20261025T010000
END:STANDARD
BEGIN:DAYLIGHT
TZOFFSETFROM:+0000
TZOFFSETTO:+0100
TZNAME:BST
DTSTART:20270328T010000
END:DAYLIGHT
BEGIN:STANDARD
TZOFFSETFROM:+0100
TZOFFSETTO:+0000
TZNAME:GMT
DTSTART:20271031T010000
END:STANDARD
END:VTIMEZONE
BEGIN:VEVENT
DTSTART;TZID=Europe/London:20260210T100000
DTEND;TZID=Europe/London:20260210T130000
DTSTAMP:20260419T222219
CREATED:20251123T221358Z
LAST-MODIFIED:20251123T221441Z
UID:10000152-1770717600-1770728400@ldhub.org.uk
SUMMARY:Effective Constructive Resettlement
DESCRIPTION:Sickle Cell and Thalassaemia Awareness				\n				\n		\n				\n				\n					\n\n\n   ← Back\n				\n				\n				\n				\n									| 								\n				\n				\n				\n					\n		\n			May 6\n\n	\n\n	 @ \n\n\n4:00 pm\n\n		\n\n\n\n	\n	 - \n\n5:00 pm\n\n\n\n	\n				\n				\n				\n				\n									| 								\n				\n				\n				\n					\nFree 				\n				\n				\n				\n		\n					\n				\n				\n																														\n				\n					\n				\n		\n					\n				\n				\n									Webinar Overview: \nSickle cell and thalassaemia are among the most common inherited blood disorders globally\, yet awareness and understanding remain limited across many professional settings. In the UK\, these conditions disproportionately affect individuals from African\, Caribbean\, Middle Eastern\, and South Asian backgrounds\, raising important considerations around health equity\, cultural competence\, and systemic disparities in care. \nThis webinar explores the realities of living with sickle cell and thalassaemia\, including the physical\, emotional\, and social impact on individuals and families. It will examine common misconceptions\, barriers to effective support\, and the importance of early recognition and informed responses across health\, education\, and community services. \nBringing together practical insight\, lived experience\, and professional reflection\, this session will support participants to build confidence\, improve awareness\, and respond more effectively to the needs of those affected. \nIdeal for: \n\nHealth and social care professionals\nYouth workers\, mentors and support practitioners\nTeachers\, pastoral staff and safeguarding leads\nLocal authority practitioners and frontline staff\nVoluntary and community sector organisations\nEquality\, diversity and inclusion leads\nMembers of the public\, and family and friends of those affected\n\n Key Takeaways: \n\nUnderstanding what sickle cell and thalassaemia are and how they affect the body\nRecognising the signs\, symptoms\, and potential complications\nExploring the lived experiences of individuals and families affected\nChallenging myths\, stigma\, and common misconceptions\nUnderstanding the importance of culturally competent and trauma-informed support\nIdentifying how professionals can respond appropriately in crisis and non-crisis situations\nImproving communication\, empathy\, and inclusive practice across services\n\n Additional Benefits: \n\nGain practical insight to support individuals in health\, education\, and community settings\nDevelop confidence in recognising and responding to sickle cell-related needs\nStrengthen your ability to deliver culturally responsive and person-centred support\nLearn how to create more inclusive and informed environments for those affected\nEnhance your professional practice through real-world examples and discussion\n\n This webinar is essential for professionals and organisations committed to improving awareness\, reducing health inequalities\, and delivering more informed\, compassionate\, and culturally competent support for individuals living with sickle cell and thalassaemia. It is also highly valuable for members of the public\, as well as family and friends of those affected\, who want to better understand these conditions and provide meaningful support. 								\n				\n				\n				\n					\n	\n		\n\n	\n	Add to calendar	\n		\n	\n\n		\n			\n									\n	Google Calendar\n\n									\n	iCalendar\n\n									\n	Outlook 365\n\n									\n	Outlook Live\n\n							\n		\n\n		\n	\n\n				\n				\n				\n				\n					\n\n			\n			\n	\n	\n\n	\n	\n\n	\n	\n\n\n			\n\n	\n	\n		\n			You must be logged in to RSVP.\n			\n				Log in here			\n		\n	\n\n\n\n	\n	\n\n		\n	\n		\n	Webinar Ticket\n\n		\n	SCTA \n\n\n		\n	\n		0	\n	\n		Going	\n\n\n		\n				\n	\n	\n\n\n		\n	\n\n		\n			\n	\n		RSVP Here	\n\n	\n\n	\n		Going	\n\n\n	\n\n\n			\n\n\n\n		\n	\n\n	\n\n		\n	\n				\n				\n		\n		\n				\n		\n				\n				\n		\n				\n				\n					\n	\n		\n\n				Delivering Effective Group Work	\n\n\n		\n	\n		Disrupting Bias: From Disparities to Educational Equity
URL:https://ldhub.org.uk/event/effective-constructive-resettlement/
CATEGORIES:Online Event
ATTACH;FMTTYPE=image/png:https://ldhub.org.uk/wp-content/uploads/2025/08/ECR1.png
ORGANIZER;CN="Learning and Development Hub":MAILTO:info@ldhub.org.uk
LOCATION:https://ldhub.org.uk/event/effective-constructive-resettlement/
END:VEVENT
END:VCALENDAR